BEGIN:VCALENDAR
VERSION:2.0
PRODID:-//Museum of Discovery - ECPv6.15.20//NONSGML v1.0//EN
CALSCALE:GREGORIAN
METHOD:PUBLISH
X-WR-CALNAME:Museum of Discovery
X-ORIGINAL-URL:https://museumofdiscovery.org
X-WR-CALDESC:Events for Museum of Discovery
REFRESH-INTERVAL;VALUE=DURATION:PT1H
X-Robots-Tag:noindex
X-PUBLISHED-TTL:PT1H
BEGIN:VTIMEZONE
TZID:America/Chicago
BEGIN:DAYLIGHT
TZOFFSETFROM:-0600
TZOFFSETTO:-0500
TZNAME:CDT
DTSTART:20230312T080000
END:DAYLIGHT
BEGIN:STANDARD
TZOFFSETFROM:-0500
TZOFFSETTO:-0600
TZNAME:CST
DTSTART:20231105T070000
END:STANDARD
BEGIN:DAYLIGHT
TZOFFSETFROM:-0600
TZOFFSETTO:-0500
TZNAME:CDT
DTSTART:20240310T080000
END:DAYLIGHT
BEGIN:STANDARD
TZOFFSETFROM:-0500
TZOFFSETTO:-0600
TZNAME:CST
DTSTART:20241103T070000
END:STANDARD
BEGIN:DAYLIGHT
TZOFFSETFROM:-0600
TZOFFSETTO:-0500
TZNAME:CDT
DTSTART:20250309T080000
END:DAYLIGHT
BEGIN:STANDARD
TZOFFSETFROM:-0500
TZOFFSETTO:-0600
TZNAME:CST
DTSTART:20251102T070000
END:STANDARD
END:VTIMEZONE
BEGIN:VEVENT
DTSTART;TZID=America/Chicago:20240409T103000
DTEND;TZID=America/Chicago:20240409T103000
DTSTAMP:20260425T222508
CREATED:20240401T205158Z
LAST-MODIFIED:20240401T210551Z
UID:10000505-1712658600-1712658600@museumofdiscovery.org
SUMMARY:Builder Bees
DESCRIPTION:Wiggle Worms introduces children\, ages 6 and younger\, and their families to science through fun and hands-on activities. The program takes place in our great hall and is held Tuesdays\, Thursdays and Saturdays at 10:30 a.m. We begin with a book and then move to the activities. \nWiggle Worms is included in regular museum admission or free for members.
URL:https://museumofdiscovery.org/event/builder-bees/2024-04-09/
CATEGORIES:Wiggle Worms
ATTACH;FMTTYPE=image/png:https://museumofdiscovery.org/wp-content/uploads/2024/02/WW-Website-.png
END:VEVENT
BEGIN:VEVENT
DTSTART;TZID=America/Chicago:20240408T103000
DTEND;TZID=America/Chicago:20240408T110000
DTSTAMP:20260425T222508
CREATED:20240401T210151Z
LAST-MODIFIED:20240401T210414Z
UID:10000671-1712572200-1712574000@museumofdiscovery.org
SUMMARY:Eclipse Safety
DESCRIPTION:Wiggle Worms introduces children\, ages 6 and younger\, and their families to science through fun and hands-on activities. The program takes place in our great hall and is held Tuesdays\, Thursdays and Saturdays at 10:30 a.m. We begin with a book and then move to the activities. \nWiggle Worms is included in regular museum admission or free for members.
URL:https://museumofdiscovery.org/event/eclipse-safety/2024-04-08/
LOCATION:Museum of Discovery\, 500 President Clinton Ave\, Little Rock\, Arkansas\, 72201\, United States
CATEGORIES:Wiggle Worms
ATTACH;FMTTYPE=image/png:https://museumofdiscovery.org/wp-content/uploads/2024/02/WW-Website-.png
END:VEVENT
BEGIN:VEVENT
DTSTART;TZID=America/Chicago:20240408T090000
DTEND;TZID=America/Chicago:20240408T190000
DTSTAMP:20260425T222508
CREATED:20240325T161248Z
LAST-MODIFIED:20240401T203753Z
UID:10000500-1712566800-1712602800@museumofdiscovery.org
SUMMARY:Discover the Eclipse (Monday)
DESCRIPTION:See details below:
URL:https://museumofdiscovery.org/event/discover-the-eclipse/
ATTACH;FMTTYPE=image/png:https://museumofdiscovery.org/wp-content/uploads/2024/03/Eclipse-Event-Logos-1.png
END:VEVENT
BEGIN:VEVENT
DTSTART;TZID=America/Chicago:20240407T103000
DTEND;TZID=America/Chicago:20240407T103000
DTSTAMP:20260425T222508
CREATED:20240401T210151Z
LAST-MODIFIED:20240401T210414Z
UID:10000670-1712485800-1712485800@museumofdiscovery.org
SUMMARY:Eclipse Safety
DESCRIPTION:Wiggle Worms introduces children\, ages 6 and younger\, and their families to science through fun and hands-on activities. The program takes place in our great hall and is held Tuesdays\, Thursdays and Saturdays at 10:30 a.m. We begin with a book and then move to the activities. \nWiggle Worms is included in regular museum admission or free for members.
URL:https://museumofdiscovery.org/event/eclipse-safety/2024-04-07/
LOCATION:Museum of Discovery\, 500 President Clinton Ave\, Little Rock\, Arkansas\, 72201\, United States
CATEGORIES:Wiggle Worms
ATTACH;FMTTYPE=image/png:https://museumofdiscovery.org/wp-content/uploads/2024/02/WW-Website-.png
END:VEVENT
BEGIN:VEVENT
DTSTART;TZID=America/Chicago:20240407T090000
DTEND;TZID=America/Chicago:20240407T190000
DTSTAMP:20260425T222508
CREATED:20240325T160820Z
LAST-MODIFIED:20240401T204924Z
UID:10000499-1712480400-1712516400@museumofdiscovery.org
SUMMARY:Discover the Eclipse Weekend (Sunday)
DESCRIPTION:Our friends from NASA Nebraska Space Grant Consortium will join us from 1-7 p.m. with the following hands-on activities: \nSolar telescopes\nSunoculars\nSun spotters\nEclipse scale demonstration\nChalk eclipse
URL:https://museumofdiscovery.org/event/discover-the-eclipse-weekend-sunday/
ATTACH;FMTTYPE=image/png:https://museumofdiscovery.org/wp-content/uploads/2024/03/Heading-16-x-9-in.png
END:VEVENT
BEGIN:VEVENT
DTSTART;TZID=America/Chicago:20240406T103000
DTEND;TZID=America/Chicago:20240406T110000
DTSTAMP:20260425T222508
CREATED:20240401T210151Z
LAST-MODIFIED:20240401T210414Z
UID:10000669-1712399400-1712401200@museumofdiscovery.org
SUMMARY:Eclipse Safety
DESCRIPTION:Wiggle Worms introduces children\, ages 6 and younger\, and their families to science through fun and hands-on activities. The program takes place in our great hall and is held Tuesdays\, Thursdays and Saturdays at 10:30 a.m. We begin with a book and then move to the activities. \nWiggle Worms is included in regular museum admission or free for members.
URL:https://museumofdiscovery.org/event/eclipse-safety/2024-04-06/
LOCATION:Museum of Discovery\, 500 President Clinton Ave\, Little Rock\, Arkansas\, 72201\, United States
CATEGORIES:Wiggle Worms
ATTACH;FMTTYPE=image/png:https://museumofdiscovery.org/wp-content/uploads/2024/02/WW-Website-.png
END:VEVENT
BEGIN:VEVENT
DTSTART;TZID=America/Chicago:20240406T090000
DTEND;TZID=America/Chicago:20240406T190000
DTSTAMP:20260425T222508
CREATED:20240325T153111Z
LAST-MODIFIED:20240401T204912Z
UID:10000498-1712394000-1712430000@museumofdiscovery.org
SUMMARY:Discover the Eclipse Weekend (Saturday)
DESCRIPTION:Discover the 2024 eclipse at Museum of Discovery with educational eclipse programming\, demos\, hands-on exhibits and opportunities to explore animal behaviors during the eclipse. \nAdditionally\, there will be eclipse pre-gamming (happy hour) with Lost Forty Brewing in the great hall from 4-7 p.m.
URL:https://museumofdiscovery.org/event/discover-the-eclipse-weekend/
ATTACH;FMTTYPE=image/png:https://museumofdiscovery.org/wp-content/uploads/2024/03/Heading-16-x-9-in.png
END:VEVENT
BEGIN:VEVENT
DTSTART;TZID=America/Chicago:20240404T103000
DTEND;TZID=America/Chicago:20240404T110000
DTSTAMP:20260425T222508
CREATED:20240401T210151Z
LAST-MODIFIED:20240401T210414Z
UID:10000668-1712226600-1712228400@museumofdiscovery.org
SUMMARY:Eclipse Safety
DESCRIPTION:Wiggle Worms introduces children\, ages 6 and younger\, and their families to science through fun and hands-on activities. The program takes place in our great hall and is held Tuesdays\, Thursdays and Saturdays at 10:30 a.m. We begin with a book and then move to the activities. \nWiggle Worms is included in regular museum admission or free for members.
URL:https://museumofdiscovery.org/event/eclipse-safety/2024-04-04/
LOCATION:Museum of Discovery\, 500 President Clinton Ave\, Little Rock\, Arkansas\, 72201\, United States
CATEGORIES:Wiggle Worms
ATTACH;FMTTYPE=image/png:https://museumofdiscovery.org/wp-content/uploads/2024/02/WW-Website-.png
END:VEVENT
BEGIN:VEVENT
DTSTART;TZID=America/Chicago:20240402T103000
DTEND;TZID=America/Chicago:20240402T103000
DTSTAMP:20260425T222508
CREATED:20240401T210151Z
LAST-MODIFIED:20240401T210414Z
UID:10000667-1712053800-1712053800@museumofdiscovery.org
SUMMARY:Eclipse Safety
DESCRIPTION:Wiggle Worms introduces children\, ages 6 and younger\, and their families to science through fun and hands-on activities. The program takes place in our great hall and is held Tuesdays\, Thursdays and Saturdays at 10:30 a.m. We begin with a book and then move to the activities. \nWiggle Worms is included in regular museum admission or free for members.
URL:https://museumofdiscovery.org/event/eclipse-safety/2024-04-02/
LOCATION:Museum of Discovery\, 500 President Clinton Ave\, Little Rock\, Arkansas\, 72201\, United States
CATEGORIES:Wiggle Worms
ATTACH;FMTTYPE=image/png:https://museumofdiscovery.org/wp-content/uploads/2024/02/WW-Website-.png
END:VEVENT
BEGIN:VEVENT
DTSTART;TZID=America/Chicago:20240330T103000
DTEND;TZID=America/Chicago:20240330T110000
DTSTAMP:20260425T222508
CREATED:20240326T133912Z
LAST-MODIFIED:20240326T133912Z
UID:10000503-1711794600-1711796400@museumofdiscovery.org
SUMMARY:Wiggle Worms: Eclipse
DESCRIPTION:Wiggle Worms introduces children\, ages 6 and younger\, and their families to science through fun and hands-on activities. The program takes place in our great hall and is held Tuesdays\, Thursdays and Saturdays at 10:30 a.m. We begin with a book and then move to the activities. \nWiggle Worms is included in regular museum admission or free for members.
URL:https://museumofdiscovery.org/event/wiggle-worms-eclipse-3/
CATEGORIES:Wiggle Worms
ATTACH;FMTTYPE=image/png:https://museumofdiscovery.org/wp-content/uploads/2024/02/WW-Website-.png
END:VEVENT
BEGIN:VEVENT
DTSTART;TZID=America/Chicago:20240328T103000
DTEND;TZID=America/Chicago:20240328T110000
DTSTAMP:20260425T222508
CREATED:20240326T133828Z
LAST-MODIFIED:20240326T133828Z
UID:10000502-1711621800-1711623600@museumofdiscovery.org
SUMMARY:Wiggle Worms: Eclipse
DESCRIPTION:Wiggle Worms introduces children\, ages 6 and younger\, and their families to science through fun and hands-on activities. The program takes place in our great hall and is held Tuesdays\, Thursdays and Saturdays at 10:30 a.m. We begin with a book and then move to the activities. \nWiggle Worms is included in regular museum admission or free for members.
URL:https://museumofdiscovery.org/event/wiggle-worms-eclipse-2/
CATEGORIES:Wiggle Worms
ATTACH;FMTTYPE=image/png:https://museumofdiscovery.org/wp-content/uploads/2024/02/WW-Website-.png
END:VEVENT
BEGIN:VEVENT
DTSTART;TZID=America/Chicago:20240326T103000
DTEND;TZID=America/Chicago:20240326T110000
DTSTAMP:20260425T222508
CREATED:20240326T133747Z
LAST-MODIFIED:20240326T133747Z
UID:10000501-1711449000-1711450800@museumofdiscovery.org
SUMMARY:Wiggle Worms: Eclipse
DESCRIPTION:Wiggle Worms introduces children\, ages 6 and younger\, and their families to science through fun and hands-on activities. The program takes place in our great hall and is held Tuesdays\, Thursdays and Saturdays at 10:30 a.m. We begin with a book and then move to the activities. \nWiggle Worms is included in regular museum admission or free for members.
URL:https://museumofdiscovery.org/event/wiggle-worms-eclipse/
CATEGORIES:Wiggle Worms
ATTACH;FMTTYPE=image/png:https://museumofdiscovery.org/wp-content/uploads/2024/02/WW-Website-.png
END:VEVENT
BEGIN:VEVENT
DTSTART;TZID=America/Chicago:20240323T103000
DTEND;TZID=America/Chicago:20240323T110000
DTSTAMP:20260425T222508
CREATED:20240305T213708Z
LAST-MODIFIED:20240305T213708Z
UID:10000494-1711189800-1711191600@museumofdiscovery.org
SUMMARY:Wiggle Worms: Eclipse Countdown - Earth's Atmosphere
DESCRIPTION:Wiggle Worms introduces children\, ages 6 and younger\, and their families to science through fun and hands-on activities. The program takes place in our great hall and is held Tuesdays\, Thursdays and Saturdays at 10:30 a.m. We begin with a book and then move to the activities. \nWiggle Worms is included in regular museum admission or free for members.
URL:https://museumofdiscovery.org/event/wiggle-worms-eclipse-countdown-earths-atmosphere-2/
CATEGORIES:Wiggle Worms
ATTACH;FMTTYPE=image/png:https://museumofdiscovery.org/wp-content/uploads/2024/02/WW-Website-.png
END:VEVENT
BEGIN:VEVENT
DTSTART;TZID=America/Chicago:20240322T103000
DTEND;TZID=America/Chicago:20240322T110000
DTSTAMP:20260425T222509
CREATED:20240317T001857Z
LAST-MODIFIED:20240320T161942Z
UID:10000497-1711103400-1711105200@museumofdiscovery.org
SUMMARY:Creature Features
DESCRIPTION:We’ll learn how bearded dragon’s parietal eye help them see light and shadows above them. We’ll also create our own parietal eye that can be used to safely view the eclipse.
URL:https://museumofdiscovery.org/event/creature-features/2024-03-22/
ATTACH;FMTTYPE=image/png:https://museumofdiscovery.org/wp-content/uploads/2024/03/WW-Website-5.png
END:VEVENT
BEGIN:VEVENT
DTSTART;TZID=America/Chicago:20240321T103000
DTEND;TZID=America/Chicago:20240321T110000
DTSTAMP:20260425T222509
CREATED:20240305T213635Z
LAST-MODIFIED:20240305T213736Z
UID:10000493-1711017000-1711018800@museumofdiscovery.org
SUMMARY:Wiggle Worms: Eclipse Countdown - Earth's Atmosphere
DESCRIPTION:Wiggle Worms introduces children\, ages 6 and younger\, and their families to science through fun and hands-on activities. The program takes place in our great hall and is held Tuesdays\, Thursdays and Saturdays at 10:30 a.m. We begin with a book and then move to the activities. \nWiggle Worms is included in regular museum admission or free for members.
URL:https://museumofdiscovery.org/event/wiggle-worms-eclipse-countdown-earths-atmosphere/
CATEGORIES:Wiggle Worms
ATTACH;FMTTYPE=image/png:https://museumofdiscovery.org/wp-content/uploads/2024/02/WW-Website-.png
END:VEVENT
BEGIN:VEVENT
DTSTART;TZID=America/Chicago:20240320T103000
DTEND;TZID=America/Chicago:20240320T110000
DTSTAMP:20260425T222509
CREATED:20240317T001857Z
LAST-MODIFIED:20240320T161942Z
UID:10000496-1710930600-1710932400@museumofdiscovery.org
SUMMARY:Creature Features
DESCRIPTION:We’ll learn how bearded dragon’s parietal eye help them see light and shadows above them. We’ll also create our own parietal eye that can be used to safely view the eclipse.
URL:https://museumofdiscovery.org/event/creature-features/2024-03-20/
ATTACH;FMTTYPE=image/png:https://museumofdiscovery.org/wp-content/uploads/2024/03/WW-Website-5.png
END:VEVENT
BEGIN:VEVENT
DTSTART;TZID=America/Chicago:20240319T103000
DTEND;TZID=America/Chicago:20240319T110000
DTSTAMP:20260425T222509
CREATED:20240305T213450Z
LAST-MODIFIED:20240305T213548Z
UID:10000492-1710844200-1710846000@museumofdiscovery.org
SUMMARY:Wiggle Worms: Eclipse Countdown - Earth's Atmosphere
DESCRIPTION:Wiggle Worms introduces children\, ages 6 and younger\, and their families to science through fun and hands-on activities. The program takes place in our great hall and is held Tuesdays\, Thursdays and Saturdays at 10:30 a.m. We begin with a book and then move to the activities. \nWiggle Worms is included in regular museum admission or free for members.
URL:https://museumofdiscovery.org/event/wiggle-worms-eclipse-countdown-atmosphere/
CATEGORIES:Wiggle Worms
ATTACH;FMTTYPE=image/png:https://museumofdiscovery.org/wp-content/uploads/2024/02/WW-Website-.png
END:VEVENT
BEGIN:VEVENT
DTSTART;TZID=America/Chicago:20240318T103000
DTEND;TZID=America/Chicago:20240318T110000
DTSTAMP:20260425T222509
CREATED:20240317T001857Z
LAST-MODIFIED:20240320T161942Z
UID:10000495-1710757800-1710759600@museumofdiscovery.org
SUMMARY:Creature Features
DESCRIPTION:We’ll learn how bearded dragon’s parietal eye help them see light and shadows above them. We’ll also create our own parietal eye that can be used to safely view the eclipse.
URL:https://museumofdiscovery.org/event/creature-features/2024-03-18/
ATTACH;FMTTYPE=image/png:https://museumofdiscovery.org/wp-content/uploads/2024/03/WW-Website-5.png
END:VEVENT
BEGIN:VEVENT
DTSTART;TZID=America/Chicago:20240316T103000
DTEND;TZID=America/Chicago:20240316T110000
DTSTAMP:20260425T222509
CREATED:20240305T203524Z
LAST-MODIFIED:20240305T211611Z
UID:10000487-1710585000-1710586800@museumofdiscovery.org
SUMMARY:Wiggle Worms: Eclipse Countdown - Moon Phases
DESCRIPTION:Wiggle Worms introduces children\, ages 6 and younger\, and their families to science through fun and hands-on activities. The program takes place in our great hall and is held Tuesdays\, Thursdays and Saturdays at 10:30 a.m. We begin with a book and then move to the activities. \nWiggle Worms is included in regular museum admission or free for members.
URL:https://museumofdiscovery.org/event/wiggle-worms-eclipse-countdown-moonphases/2024-03-16/
CATEGORIES:Wiggle Worms
ATTACH;FMTTYPE=image/png:https://museumofdiscovery.org/wp-content/uploads/2024/03/WW-Website-2.png
END:VEVENT
BEGIN:VEVENT
DTSTART;TZID=America/Chicago:20240314T103000
DTEND;TZID=America/Chicago:20240314T110000
DTSTAMP:20260425T222509
CREATED:20240305T203524Z
LAST-MODIFIED:20240305T211611Z
UID:10000486-1710412200-1710414000@museumofdiscovery.org
SUMMARY:Wiggle Worms: Eclipse Countdown - Moon Phases
DESCRIPTION:Wiggle Worms introduces children\, ages 6 and younger\, and their families to science through fun and hands-on activities. The program takes place in our great hall and is held Tuesdays\, Thursdays and Saturdays at 10:30 a.m. We begin with a book and then move to the activities. \nWiggle Worms is included in regular museum admission or free for members.
URL:https://museumofdiscovery.org/event/wiggle-worms-eclipse-countdown-moonphases/2024-03-14/
CATEGORIES:Wiggle Worms
ATTACH;FMTTYPE=image/png:https://museumofdiscovery.org/wp-content/uploads/2024/03/WW-Website-2.png
END:VEVENT
BEGIN:VEVENT
DTSTART;TZID=America/Chicago:20240312T103000
DTEND;TZID=America/Chicago:20240312T110000
DTSTAMP:20260425T222509
CREATED:20240305T203524Z
LAST-MODIFIED:20240305T211611Z
UID:10000485-1710239400-1710241200@museumofdiscovery.org
SUMMARY:Wiggle Worms: Eclipse Countdown - Moon Phases
DESCRIPTION:Wiggle Worms introduces children\, ages 6 and younger\, and their families to science through fun and hands-on activities. The program takes place in our great hall and is held Tuesdays\, Thursdays and Saturdays at 10:30 a.m. We begin with a book and then move to the activities. \nWiggle Worms is included in regular museum admission or free for members.
URL:https://museumofdiscovery.org/event/wiggle-worms-eclipse-countdown-moonphases/2024-03-12/
CATEGORIES:Wiggle Worms
ATTACH;FMTTYPE=image/png:https://museumofdiscovery.org/wp-content/uploads/2024/03/WW-Website-2.png
END:VEVENT
BEGIN:VEVENT
DTSTART;TZID=America/Chicago:20240309T103000
DTEND;TZID=America/Chicago:20240309T110000
DTSTAMP:20260425T222509
CREATED:20240305T221508Z
LAST-MODIFIED:20240305T221508Z
UID:10000491-1709980200-1709982000@museumofdiscovery.org
SUMMARY:Wiggle Worms: Eclipse Countdown - Sun
DESCRIPTION:Wiggle Worms introduces children\, ages 6 and younger\, and their families to science through fun and hands-on activities. The program takes place in our great hall and is held Tuesdays\, Thursdays and Saturdays at 10:30 a.m. We begin with a book and then move to the activities. \nWiggle Worms is included in regular museum admission or free for members.
URL:https://museumofdiscovery.org/event/wiggle-worms-eclipse-countdown-sun-4/
CATEGORIES:Wiggle Worms
ATTACH;FMTTYPE=image/png:https://museumofdiscovery.org/wp-content/uploads/2024/02/WW-Website-.png
END:VEVENT
BEGIN:VEVENT
DTSTART;TZID=America/Chicago:20240309T103000
DTEND;TZID=America/Chicago:20240309T110000
DTSTAMP:20260425T222509
CREATED:20240305T203225Z
LAST-MODIFIED:20240305T203225Z
UID:10000483-1709980200-1709982000@museumofdiscovery.org
SUMMARY:Wiggle Worms: Eclipse Countdown - Sun
DESCRIPTION:Wiggle Worms introduces children\, ages 6 and younger\, and their families to science through fun and hands-on activities. The program takes place in our great hall and is held Tuesdays\, Thursdays and Saturdays at 10:30 a.m. We begin with a book and then move to the activities. \nWiggle Worms is included in regular museum admission or free for members.
URL:https://museumofdiscovery.org/event/wiggle-worms-eclipse-countdown-sun-3/
CATEGORIES:Wiggle Worms
ATTACH;FMTTYPE=image/png:https://museumofdiscovery.org/wp-content/uploads/2024/02/WW-Website-.png
END:VEVENT
BEGIN:VEVENT
DTSTART;TZID=America/Chicago:20240309T103000
DTEND;TZID=America/Chicago:20240309T110000
DTSTAMP:20260425T222509
CREATED:20240301T183027Z
LAST-MODIFIED:20240301T183027Z
UID:10000482-1709980200-1709982000@museumofdiscovery.org
SUMMARY:Wiggle Worms: Eclipse Countdown - Sun
DESCRIPTION:Wiggle Worms introduces children\, ages 6 and younger\, and their families to science through fun and hands-on activities. The program takes place in our great hall and is held Tuesdays\, Thursdays and Saturdays at 10:30 a.m. We begin with a book and then move to the activities. \nWiggle Worms is included in regular museum admission or free for members.
URL:https://museumofdiscovery.org/event/wiggle-worms-eclipse-countdown-sun/2024-03-09/
CATEGORIES:Wiggle Worms
ATTACH;FMTTYPE=image/png:https://museumofdiscovery.org/wp-content/uploads/2024/02/WW-Website-.png
END:VEVENT
BEGIN:VEVENT
DTSTART;TZID=America/Chicago:20240307T103000
DTEND;TZID=America/Chicago:20240307T110000
DTSTAMP:20260425T222509
CREATED:20240305T202544Z
LAST-MODIFIED:20240305T202910Z
UID:10000481-1709807400-1709809200@museumofdiscovery.org
SUMMARY:Wiggle Worms: Eclipse Countdown - Sun
DESCRIPTION:Wiggle Worms introduces children\, ages 6 and younger\, and their families to science through fun and hands-on activities. The program takes place in our great hall and is held Tuesdays\, Thursdays and Saturdays at 10:30 a.m. We begin with a book and then move to the activities. \nWiggle Worms is included in regular museum admission or free for members.
URL:https://museumofdiscovery.org/event/wiggle-worms-eclipse-countdown-sun-2/
CATEGORIES:Wiggle Worms
ATTACH;FMTTYPE=image/png:https://museumofdiscovery.org/wp-content/uploads/2024/02/WW-Website-.png
END:VEVENT
BEGIN:VEVENT
DTSTART;TZID=America/Chicago:20240305T103000
DTEND;TZID=America/Chicago:20240305T110000
DTSTAMP:20260425T222509
CREATED:20240301T183027Z
LAST-MODIFIED:20240301T183027Z
UID:10000480-1709634600-1709636400@museumofdiscovery.org
SUMMARY:Wiggle Worms: Eclipse Countdown - Sun
DESCRIPTION:Wiggle Worms introduces children\, ages 6 and younger\, and their families to science through fun and hands-on activities. The program takes place in our great hall and is held Tuesdays\, Thursdays and Saturdays at 10:30 a.m. We begin with a book and then move to the activities. \nWiggle Worms is included in regular museum admission or free for members.
URL:https://museumofdiscovery.org/event/wiggle-worms-eclipse-countdown-sun/2024-03-05/
CATEGORIES:Wiggle Worms
ATTACH;FMTTYPE=image/png:https://museumofdiscovery.org/wp-content/uploads/2024/02/WW-Website-.png
END:VEVENT
BEGIN:VEVENT
DTSTART;TZID=America/Chicago:20240302T103000
DTEND;TZID=America/Chicago:20240302T110000
DTSTAMP:20260425T222509
CREATED:20240223T043616Z
LAST-MODIFIED:20240223T043616Z
UID:10000479-1709375400-1709377200@museumofdiscovery.org
SUMMARY:Wiggle Worms: Earthquake Shakes
DESCRIPTION:Wiggle Worms introduces children\, ages 6 and younger\, and their families to science through fun and hands-on activities. The program takes place in our great hall and is held on Tuesdays\, Thursdays and Saturdays at 10:30 a.m. We begin with a book and then move to the activities. \nWiggle Worms is included in regular museum admission or free for members. \n 
URL:https://museumofdiscovery.org/event/wiggle-worms-earthquake-shakes/2024-03-02/
CATEGORIES:Wiggle Worms
ATTACH;FMTTYPE=image/png:https://museumofdiscovery.org/wp-content/uploads/2024/02/WW-Website-.png
END:VEVENT
BEGIN:VEVENT
DTSTART;TZID=America/Chicago:20240229T180000
DTEND;TZID=America/Chicago:20240229T210000
DTSTAMP:20260425T222509
CREATED:20240213T194649Z
LAST-MODIFIED:20240223T043809Z
UID:10000476-1709229600-1709240400@museumofdiscovery.org
SUMMARY:Star Wars - Return of the Eclipse
DESCRIPTION:In a galaxy not so far away\, where the forces of science and fandom collide\, the Museum of Discovery presents an epic night of adventure like no other – it’s time for “Star Wars: Return of the Eclipse”!\n\n[Cue John Williams ]\n\nAs we await the 2024 Great Solar Eclipse\, we’re celebrating all things space by partying for one night like we’re in a galactic wonderland. Jedi astronomers and lightsaber demos await you. Dive into the Star Wars Cantina\, where cosmic cocktails\, Stone Throw beer\, and pizza treats await. May the Force be with you on this unforgettable night!\n\nYou must be at least 21 to attend. Admission is $5 or free for members with pizza\, beer\, and cocktails available for purchase.
URL:https://museumofdiscovery.org/event/sadfeb24/
LOCATION:Museum of Discovery\, 500 President Clinton Ave\, Little Rock\, Arkansas\, 72201\, United States
CATEGORIES:Science After Dark
ATTACH;FMTTYPE=image/jpeg:https://museumofdiscovery.org/wp-content/uploads/2024/02/SAD-Star-Wars-scaled.jpg
END:VEVENT
BEGIN:VEVENT
DTSTART;TZID=America/Chicago:20240229T103000
DTEND;TZID=America/Chicago:20240229T110000
DTSTAMP:20260425T222509
CREATED:20240223T043616Z
LAST-MODIFIED:20240223T043616Z
UID:10000478-1709202600-1709204400@museumofdiscovery.org
SUMMARY:Wiggle Worms: Earthquake Shakes
DESCRIPTION:Wiggle Worms introduces children\, ages 6 and younger\, and their families to science through fun and hands-on activities. The program takes place in our great hall and is held on Tuesdays\, Thursdays and Saturdays at 10:30 a.m. We begin with a book and then move to the activities. \nWiggle Worms is included in regular museum admission or free for members. \n 
URL:https://museumofdiscovery.org/event/wiggle-worms-earthquake-shakes/2024-02-29/
CATEGORIES:Wiggle Worms
ATTACH;FMTTYPE=image/png:https://museumofdiscovery.org/wp-content/uploads/2024/02/WW-Website-.png
END:VEVENT
BEGIN:VEVENT
DTSTART;TZID=America/Chicago:20240227T103000
DTEND;TZID=America/Chicago:20240227T110000
DTSTAMP:20260425T222509
CREATED:20240223T043616Z
LAST-MODIFIED:20240223T043616Z
UID:10000477-1709029800-1709031600@museumofdiscovery.org
SUMMARY:Wiggle Worms: Earthquake Shakes
DESCRIPTION:Wiggle Worms introduces children\, ages 6 and younger\, and their families to science through fun and hands-on activities. The program takes place in our great hall and is held on Tuesdays\, Thursdays and Saturdays at 10:30 a.m. We begin with a book and then move to the activities. \nWiggle Worms is included in regular museum admission or free for members. \n 
URL:https://museumofdiscovery.org/event/wiggle-worms-earthquake-shakes/2024-02-27/
CATEGORIES:Wiggle Worms
ATTACH;FMTTYPE=image/png:https://museumofdiscovery.org/wp-content/uploads/2024/02/WW-Website-.png
END:VEVENT
END:VCALENDAR