BEGIN:VCALENDAR
VERSION:2.0
PRODID:-//Museum of Discovery - ECPv6.15.20//NONSGML v1.0//EN
CALSCALE:GREGORIAN
METHOD:PUBLISH
X-WR-CALNAME:Museum of Discovery
X-ORIGINAL-URL:https://museumofdiscovery.org
X-WR-CALDESC:Events for Museum of Discovery
REFRESH-INTERVAL;VALUE=DURATION:PT1H
X-Robots-Tag:noindex
X-PUBLISHED-TTL:PT1H
BEGIN:VTIMEZONE
TZID:America/Chicago
BEGIN:DAYLIGHT
TZOFFSETFROM:-0600
TZOFFSETTO:-0500
TZNAME:CDT
DTSTART:20250309T080000
END:DAYLIGHT
BEGIN:STANDARD
TZOFFSETFROM:-0500
TZOFFSETTO:-0600
TZNAME:CST
DTSTART:20251102T070000
END:STANDARD
BEGIN:DAYLIGHT
TZOFFSETFROM:-0600
TZOFFSETTO:-0500
TZNAME:CDT
DTSTART:20260308T080000
END:DAYLIGHT
BEGIN:STANDARD
TZOFFSETFROM:-0500
TZOFFSETTO:-0600
TZNAME:CST
DTSTART:20261101T070000
END:STANDARD
BEGIN:DAYLIGHT
TZOFFSETFROM:-0600
TZOFFSETTO:-0500
TZNAME:CDT
DTSTART:20270314T080000
END:DAYLIGHT
BEGIN:STANDARD
TZOFFSETFROM:-0500
TZOFFSETTO:-0600
TZNAME:CST
DTSTART:20271107T070000
END:STANDARD
END:VTIMEZONE
BEGIN:VEVENT
DTSTART;TZID=America/Chicago:20260712T110000
DTEND;TZID=America/Chicago:20260712T130000
DTSTAMP:20260421T070624
CREATED:20260409T154951Z
LAST-MODIFIED:20260409T154951Z
UID:10001217-1783854000-1783861200@museumofdiscovery.org
SUMMARY:Sensory Sunday
DESCRIPTION:We’re always looking for ways to make the Museum of Discovery welcoming for everyone. Join us for our sensory-friendly hours\, designed especially for guests who prefer a calmer\, quieter visit. These sessions are included with regular admission—and free for our members! \nTickets will be available at the door. Although the sensory-friendly hours are from 11 a.m. to 1 p.m.\, admission is for the entire day (regular Sunday hours: 1-5 p.m.)
URL:https://museumofdiscovery.org/event/sensory-sunday-3/
LOCATION:Museum of Discovery\, 500 President Clinton Ave\, Little Rock\, Arkansas\, 72201\, United States
CATEGORIES:Sensory-Friendly Hours
ATTACH;FMTTYPE=image/jpeg:https://museumofdiscovery.org/wp-content/uploads/2024/07/447242950_514427460915240_952085619835198515_n.jpg
END:VEVENT
END:VCALENDAR